BEGIN:VCALENDAR
VERSION:2.0
PRODID:-//eventon.com NONSGML v1.0//EN
CALSCALE:GREGORIAN
METHOD:PUBLISH
BEGIN:VEVENT
UID:69e619700c8a3
DTSTAMP:20260420T121752Z
DTSTART:20261003T100000Z
DTEND:20261025T180000Z
LOCATION:#milano Via Raffaele Lambruschini\,  36\,  20156 Milano MI
SUMMARY:Fiori di Bach - Milano
DESCRIPTION:I rimedi floreali\,  scoperti dal dott. Edward Bach all’inizi
 o del secolo scorso\,  favoriscono il contatto armonico con l’Essenza ind
 ividuale e aiutano l’essere umano a recuperare i talenti profondamente in
 siti dentro se stesso. I rimedi\,  se opportunamente utilizzati\,  costitui
 scono un aiuto efficace per comprendere le cause più intime del proprio di
 sagio[..]\nhttps://staging.scuola.naturopatia.org/events/fiori-di-bach-mila
 no/
URL:https://staging.scuola.naturopatia.org/events/fiori-di-bach-milano/
END:VEVENT
END:VCALENDAR