BEGIN:VCALENDAR
VERSION:2.0
PRODID:-//eventon.com NONSGML v1.0//EN
CALSCALE:GREGORIAN
METHOD:PUBLISH
BEGIN:VEVENT
UID:69e619486dad6
DTSTAMP:20260420T121712Z
DTSTART:20270605T100000Z
DTEND:20270606T180000Z
LOCATION:#milano Via Raffaele Lambruschini\,  36\,  20156 Milano MI
SUMMARY:Kinesiologia Touch for Health® THF2- Milano
DESCRIPTION:La Kinesiologia concepisce l’individuo come un insieme coeren
 te\,  composto da molti sistemi e diverse funzioni\,  ognuno dei quali in g
 rado di produrre salute o malattia nell’essere umano. In accordo con ques
 to principio olistico\,  il metodo Touch for Health®&nbsp;sfrutta il colle
 gamento esistente tra muscoli e meridiani della medicina tradizionale cines
 e\,  con[..]\nhttps://staging.scuola.naturopatia.org/events/kinesiologia-to
 uch-for-health-thf2-milano/
URL:https://staging.scuola.naturopatia.org/events/kinesiologia-touch-for-health-thf2-milano/
END:VEVENT
END:VCALENDAR