BEGIN:VCALENDAR
VERSION:2.0
PRODID:-//eventon.com NONSGML v1.0//EN
CALSCALE:GREGORIAN
METHOD:PUBLISH
BEGIN:VEVENT
UID:69e62a625a7d8
DTSTAMP:20260420T133010Z
DTSTART:20280122T100000Z
DTEND:20280305T180000Z
LOCATION:#padova Abbazia di Praglia\,  Via Abbazia di Praglia\,  16\,  35037 Teolo PD
SUMMARY:Naturopatia Olistica - Padova
DESCRIPTION:La Naturopatia Olistica riconosce il valore terapeutico della â
 €śforza vitaleâ€ť insita nelle diverse manifestazioni della Natura\,  ivi c
 ompreso lâ€™uomo\,  descritta dalla Medicina Ippocratica con lâ€™espression
 e Vis Medicatrix Naturae.Radice comune dei diversi rami della Medicina Natu
 rale (definita altresĂ¬ come alternativa o non convenzionale)\,  la Naturop
 atia Olistica propone un criterio salutistico atto[..]\nhttps://staging.scu
 ola.naturopatia.org/events/naturopatia-olistica-padova/
URL:https://staging.scuola.naturopatia.org/events/naturopatia-olistica-padova/
END:VEVENT
END:VCALENDAR