BEGIN:VCALENDAR
VERSION:2.0
PRODID:-//eventon.com NONSGML v1.0//EN
CALSCALE:GREGORIAN
METHOD:PUBLISH
BEGIN:VEVENT
UID:69e619b5b1450
DTSTAMP:20260420T121901Z
DTSTART:20261128T100000Z
DTEND:20270110T180000Z
LOCATION:#piacenza Via Polignano\,  5\,  29010 San Pietro in Cerro PC
SUMMARY:Comunicazione efficace - Piacenza
DESCRIPTION:La Comunicazione viene definita efficace quando il destinatario
  riceve chiaramente il messaggio che il mittente desiderava inviare. Saper 
 comunicare in modo efficace le proprie idee\,  pensieri e progetti è fonda
 mentale per poter raggiungere il proprio intento. È impossibile non comuni
 care: la più famosa tra le leggi del perfetto comunicatore ci[..]\nhttps:/
 /staging.scuola.naturopatia.org/events/comunicazione-efficace-piacenza/
URL:https://staging.scuola.naturopatia.org/events/comunicazione-efficace-piacenza/
END:VEVENT
END:VCALENDAR