BEGIN:VCALENDAR
VERSION:2.0
PRODID:-//eventon.com NONSGML v1.0//EN
CALSCALE:GREGORIAN
METHOD:PUBLISH
BEGIN:VEVENT
UID:69e89941e20e6
DTSTAMP:20260422T094745Z
DTSTART:20280115T100000Z
DTEND:20280227T180000Z
LOCATION:#milano Via Raffaele Lambruschini\,  36\,  20156 Milano MI
SUMMARY:Medicina Tradizionale Europea Mediterranea - Milano
DESCRIPTION:Con il termine Medicina Tradizionale Europea Mediterranea si id
 entifica l’antica Medicina dell&#8217;Occidente. Durante le attività did
 attiche gli allievi verranno accompagnati lungo un&nbsp;iter\, &nbsp;compiu
 to nel tempo e nello spazio\,  finalizzato alla scoperta degli antichi sape
 ri del mondo occidentale. Dopo un ampio&nbsp;excursus\,  si approfondiranno
  i fondamenti della medicina Ippocratica (460 a.C.)\,  secondo la[..]\nhttp
 s://staging.scuola.naturopatia.org/events/medicina-tradizionale-europea-med
 iterranea-milano/
URL:https://staging.scuola.naturopatia.org/events/medicina-tradizionale-europea-mediterranea-milano/
END:VEVENT
END:VCALENDAR