BEGIN:VCALENDAR
VERSION:2.0
PRODID:-//eventon.com NONSGML v1.0//EN
CALSCALE:GREGORIAN
METHOD:PUBLISH
BEGIN:VEVENT
UID:69eb289890966
DTSTAMP:20260424T082352Z
DTSTART:20260502T100000Z
DTEND:20260503T180000Z
LOCATION:#piacenza Via Polignano\,  5\,  29010 San Pietro in Cerro PC
SUMMARY:Corso di Analisi della Lingua - Piacenza
DESCRIPTION:Il corso di Analisi della lingua in MTEM è unico nel suo gener
 e: la tradizione Europea e Mediterranea viene ripresa in chiave moderna e a
 ttualizzata. Dopo un excursus storico relativo alla glossologia\,  verranno
  presentate le funzioni di tale organo\,  la condizione di una lingua in sa
 lute\,  la tripartizione funzionale\,  le[..]\nhttps://staging.scuola.natur
 opatia.org/events/corso-di-analisi-della-lingua-piacenza/
URL:https://staging.scuola.naturopatia.org/events/corso-di-analisi-della-lingua-piacenza/
END:VEVENT
END:VCALENDAR