BEGIN:VCALENDAR
VERSION:2.0
PRODID:-//eventon.com NONSGML v1.0//EN
CALSCALE:GREGORIAN
METHOD:PUBLISH
BEGIN:VEVENT
UID:69e619ab4ac1b
DTSTAMP:20260420T121851Z
DTSTART:20260620T100000Z
DTEND:20261115T180000Z
LOCATION:#piacenza Via Polignano\,  5\,  29010 San Pietro in Cerro PC
SUMMARY:Corso di Igea - Piacenza
DESCRIPTION:Corso denominato anche Sani Stli di Vita Tutti potranno apprend
 ere le indicazioni fondamentali per mantenersi in Salute e Felici attravers
 o lo stile di vita: sana alimentazione\,  corretto movimento\,  espressione
  delle proprie emozioni\,  sonno equilibrato\,  giusto rapporto tra svuotam
 ento e riempimento\,  cura dell’ambiente saranno tematiche viste e approf
 ondite in chiave moderna\, [..]\nhttps://staging.scuola.naturopatia.org/eve
 nts/corso-di-igea-piacenza/
URL:https://staging.scuola.naturopatia.org/events/corso-di-igea-piacenza/
END:VEVENT
END:VCALENDAR