BEGIN:VCALENDAR
VERSION:2.0
PRODID:-//eventon.com NONSGML v1.0//EN
CALSCALE:GREGORIAN
METHOD:PUBLISH
BEGIN:VEVENT
UID:69e62d7777e7a
DTSTAMP:20260420T134319Z
DTSTART:20250209T100000Z
DTEND:20250209T180000Z
LOCATION:#milano Via Raffaele Lambruschini\,  36\,  20156 Milano MI
SUMMARY:Analisi podalica visiva in MTEM - Milano
DESCRIPTION:Questo corso fa parte corso VALUTAZIONI OLISTICHE ed è relativ
 o alla Medicina Tradizionale Europea e Mediterranea Il corso permette di an
 alizzare le caratteristiche visibili del piede (forma della pianta\,  arco
  digitale\,  singole dita\,  metatarso\,  tallone\,  tarso\,  ecc.) e di me
 tterle in relazione con la Medicina Tradizionale Europea e Mediterranea. Un
 o strumento[..]\nhttps://staging.scuola.naturopatia.org/events/analisi-poda
 lica-visiva-in-mtem-milano/
URL:https://staging.scuola.naturopatia.org/events/analisi-podalica-visiva-in-mtem-milano/
END:VEVENT
END:VCALENDAR