BEGIN:VCALENDAR
VERSION:2.0
PRODID:-//eventon.com NONSGML v1.0//EN
CALSCALE:GREGORIAN
METHOD:PUBLISH
BEGIN:VEVENT
UID:69e619be79a8e
DTSTAMP:20260420T121910Z
DTSTART:20261121T132700Z
DTEND:20261122T132700Z
LOCATION:#piacenza Via Polignano\,  5\,  29010 San Pietro in Cerro PC
SUMMARY:Iridologia Umorale - Padova
DESCRIPTION:L’Iridologia in MTEM è una tecnica di analisi riflessa fonda
 ta sul presupposto che tutto il corpo umano\,  visto nella sua anatomia e f
 unzioni\,  ha delle corrispondenze in punti ben specifici dell’iride ed a
 ttraverso la filosofia dell’antica Medicina Tradizionale Europea e Medite
 rranea (MTEM) con lo studio delle qualità\,  degli elementi\,  degli[..]\n
 https://staging.scuola.naturopatia.org/events/iridologia-umorale-padova/
URL:https://staging.scuola.naturopatia.org/events/iridologia-umorale-padova/
END:VEVENT
END:VCALENDAR