BEGIN:VCALENDAR
VERSION:2.0
PRODID:-//eventon.com NONSGML v1.0//EN
CALSCALE:GREGORIAN
METHOD:PUBLISH
BEGIN:VEVENT
UID:69e619a968892
DTSTAMP:20260420T121849Z
DTSTART:20270109T100000Z
DTEND:20270110T180000Z
LOCATION:#milano Via Raffaele Lambruschini\,  36\,  20156 Milano MI
SUMMARY:Iridologia Umorale - Milano
DESCRIPTION:L’Iridologia in MTEM è una tecnica di analisi riflessa fonda
 ta sul presupposto che tutto il corpo umano\,  visto nella sua anatomia e f
 unzioni\,  ha delle corrispondenze in punti ben specifici dell’iride ed a
 ttraverso la filosofia dell’antica Medicina Tradizionale Europea e Medite
 rranea (MTEM) con lo studio delle qualità\,  degli elementi\,  degli[..]\n
 https://staging.scuola.naturopatia.org/events/iridologia-umorale-milano/
URL:https://staging.scuola.naturopatia.org/events/iridologia-umorale-milano/
END:VEVENT
END:VCALENDAR