BEGIN:VCALENDAR
VERSION:2.0
PRODID:-//eventon.com NONSGML v1.0//EN
CALSCALE:GREGORIAN
METHOD:PUBLISH
BEGIN:VEVENT
UID:69e62c4222262
DTSTAMP:20260420T133810Z
DTSTART:20260321T100000Z
DTEND:20260503T180000Z
LOCATION:#piacenza Via Polignano\,  5\,  29010 San Pietro in Cerro PC
SUMMARY:Corso di corso di Valutazioni Olistiche Analogiche - Piacenza
DESCRIPTION:In ciascuno di noi è possibile riconoscere nel piccolo il rifl
 esso del grande: i vari segmenti del nostro corpo sono infatti interpretabi
 li come una mappa che consente una lettura della condizione di salute indiv
 iduale. Alcuni segni parlano della nostra costituzione di base\,  mentre al
 tri della nostra condizione momentanea. Nell’ambito del[..]\nhttps://stag
 ing.scuola.naturopatia.org/events/corso-di-corso-di-valutazioni-olistiche-a
 nalogiche/
URL:https://staging.scuola.naturopatia.org/events/corso-di-corso-di-valutazioni-olistiche-analogiche/
END:VEVENT
END:VCALENDAR