BEGIN:VCALENDAR
VERSION:2.0
PRODID:-//eventon.com NONSGML v1.0//EN
CALSCALE:GREGORIAN
METHOD:PUBLISH
BEGIN:VEVENT
UID:69e887c67e6ba
DTSTAMP:20260422T083310Z
DTSTART:20250111T100000Z
DTEND:20250112T180000Z
LOCATION:#padova Abbazia di Praglia\,  Via Abbazia di Praglia\,  16\,  35037 Teolo PD
SUMMARY:Corso di Analisi della Lingua - Padova
DESCRIPTION:Il corso di Analisi della lingua in MTEM è unico nel suo gener
 e: la tradizione Europea e Mediterranea viene ripresa in chiave moderna e a
 ttualizzata. Dopo un excursus storico relativo alla glossologia\,  verranno
  presentate le funzioni di tale organo\,  la condizione di una lingua in sa
 lute\,  la tripartizione funzionale\,  le[..]\nhttps://staging.scuola.natur
 opatia.org/events/corso-di-analisi-della-lingua-padova/
URL:https://staging.scuola.naturopatia.org/events/corso-di-analisi-della-lingua-padova/
END:VEVENT
END:VCALENDAR