BEGIN:VCALENDAR
VERSION:2.0
PRODID:-//eventon.com NONSGML v1.0//EN
CALSCALE:GREGORIAN
METHOD:PUBLISH
BEGIN:VEVENT
UID:69e886cb73620
DTSTAMP:20260422T082859Z
DTSTART:20270925T100000Z
DTEND:20271010T180000Z
LOCATION:#milano Via Raffaele Lambruschini\,  36\,  20156 Milano MI
SUMMARY:Cromotest - Padova
DESCRIPTION:La vita di ciascuno di noi è caratterizzata dalla presenza del
  colore. Esso esercita un’influenza talmente radicata da essere talvolta 
 impercettibile. Nell’ambito del corso si rifletterà su questo assunto at
 traverso un percorso a tappe che porterà gli studenti a scoprire i vari co
 lori di cui è composta la nostra vita[..]\nhttps://staging.scuola.naturopa
 tia.org/events/cromoterapia-padova/
URL:https://staging.scuola.naturopatia.org/events/cromoterapia-padova/
END:VEVENT
END:VCALENDAR